BEGIN:VCALENDAR
VERSION:2.0
PRODID:-//ChamberMaster//Event Calendar 2.0//EN
METHOD:PUBLISH
X-PUBLISHED-TTL:P3D
REFRESH-INTERVAL:P3D
CALSCALE:GREGORIAN
BEGIN:VEVENT
DTSTART;VALUE=DATE:20170227
DTEND;VALUE=DATE:20170228
TRANSP:TRANSPARENT
X-MICROSOFT-CDO-ALLDAYEVENT:TRUE
SUMMARY:Chamber Director Wanted
DESCRIPTION:Click HERE for information.
X-ALT-DESC;FMTTYPE=text/html:<a href="https://chambermaster.blob.core.windows.net/userfiles/UserFiles/chambers/621/File/LCChamberExecDir.jpg">Click HERE for information.</a>
LOCATION:
UID:e.621.5683
SEQUENCE:3
DTSTAMP:20260422T055639Z
URL:https://public.lakecity.org/events/details/chamber-director-wanted-5683
END:VEVENT

END:VCALENDAR
