BEGIN:VCALENDAR
VERSION:2.0
PRODID:-//ChamberMaster//Event Calendar 2.0//EN
METHOD:PUBLISH
X-PUBLISHED-TTL:P3D
REFRESH-INTERVAL:P3D
CALSCALE:GREGORIAN
BEGIN:VEVENT
DTSTART:20160710T210000Z
DTEND:20160711T010000Z
X-MICROSOFT-CDO-ALLDAYEVENT:FALSE
SUMMARY:Chicken Barbeque & Old Time Band
DESCRIPTION:Chicken Barbeque Dinner and Dancing - Dinner 4-7:00 pm. Music by The Top Notchman Band 5-8:00 pm. Bar opens at 2:00 to enjoy the deck and beautiful Lake Pepin scenery. Dinner includes 1/2 or 1/4 charcoal grilled chicken\, potato salad\, coleslaw\, beans and dinner roll.
X-ALT-DESC;FMTTYPE=text/html:Chicken Barbeque Dinner and Dancing - Dinner 4-7:00 pm. Music by The Top Notchman Band 5-8:00 pm. Bar opens at 2:00 to enjoy the deck and beautiful Lake Pepin scenery. Dinner includes 1/2 or 1/4 charcoal grilled chicken\, potato salad\, coleslaw\, beans and dinner roll.
LOCATION:Lake City Sportsman's Club\, 2200 S Oak St.\, Lake City MN
UID:e.621.5404
SEQUENCE:3
DTSTAMP:20260422T155143Z
URL:https://public.lakecity.org/events/details/chicken-barbeque-old-time-band-07-10-2016-5404
END:VEVENT

END:VCALENDAR
