BEGIN:VCALENDAR
VERSION:2.0
PRODID:-//ChamberMaster//Event Calendar 2.0//EN
METHOD:PUBLISH
X-PUBLISHED-TTL:P3D
REFRESH-INTERVAL:P3D
CALSCALE:GREGORIAN
BEGIN:VEVENT
DTSTART:20170730T200000Z
DTEND:20170731T010000Z
X-MICROSOFT-CDO-ALLDAYEVENT:FALSE
SUMMARY:Chicken Barbeque & Old Time Dance Music
DESCRIPTION:Lake City Sportsman's Club Sunday Fun-Day! \n\n\n\nChicken BBQ: 4 to 7:00 pm\n\n$10 1/2 chicken dinner\, $8 quarter chicken dinner. Includes grilled chicken\, potato salad\, coleslaw\, beans and dinner roll.\n\n\n\nBar opens at 3:00 pm. Music and Dancing 5-8:00 pm by The Top Notchman - courtesy of a generous club member. Open to the public. Everyone welcome.
X-ALT-DESC;FMTTYPE=text/html:<strong>Lake City Sportsman&#39\;s Club Sunday Fun-Day! </strong><br />\n<br />\nChicken BBQ: 4 to 7:00 pm<br />\n$10 1/2 chicken dinner\, $8 quarter chicken dinner. Includes grilled chicken\, potato salad\, coleslaw\, beans and dinner roll.<br />\n<br />\nBar opens at 3:00 pm. Music and Dancing 5-8:00 pm by The Top Notchman - courtesy of a generous club member. Open to the public. Everyone welcome.
LOCATION:Lake City Sportsman's Club 2200 S Oak Street Lake City MN
UID:e.621.5752
SEQUENCE:3
DTSTAMP:20260421T220111Z
URL:https://public.lakecity.org/events/details/chicken-barbeque-old-time-dance-music-5752
END:VEVENT

END:VCALENDAR
