BEGIN:VCALENDAR
VERSION:2.0
PRODID:-//ChamberMaster//Event Calendar 2.0//EN
METHOD:PUBLISH
X-PUBLISHED-TTL:P3D
REFRESH-INTERVAL:P3D
CALSCALE:GREGORIAN
BEGIN:VEVENT
DTSTART:20161115T230000Z
DTEND:20161116T010000Z
X-MICROSOFT-CDO-ALLDAYEVENT:FALSE
SUMMARY:Chili Supper
DESCRIPTION:Chili Supper
X-ALT-DESC;FMTTYPE=text/html:Chili Supper
LOCATION:First Congregational Church\, 220 W. Lyon Ave.\, Lake City. Use either the Oak St. entrance or the parking lot entrance.
UID:e.621.5487
SEQUENCE:3
DTSTAMP:20260422T114914Z
URL:https://public.lakecity.org/events/details/chili-supper-5487
END:VEVENT

END:VCALENDAR
