BEGIN:VCALENDAR
VERSION:2.0
PRODID:-//ChamberMaster//Event Calendar 2.0//EN
METHOD:PUBLISH
X-PUBLISHED-TTL:P3D
REFRESH-INTERVAL:P3D
CALSCALE:GREGORIAN
BEGIN:VEVENT
DTSTART:20150916T233000Z
DTEND:20150917T023000Z
X-MICROSOFT-CDO-ALLDAYEVENT:FALSE
SUMMARY:Chocolatetunity
DESCRIPTION:Chocolatetunity?\n\nFun - Simple - Friends/Family - Travel - Money - Support - Exclusive Premium Line of Dove Chocolate\n\nYou won't want to miss this Chocolatetunity!  Come be one of our VIP guest of something BIGGER than just CHOCOLATE.  \n\nChocolate Martini Meet & Greet starts at 6:30pm   Chocolatetunity Event starts at 7pm Sharp\n\nSamples\, Specials & Surprises\n\nSpecial Guest John Wyckoff\, President of Dove Chocolate Discoveries\, Division of MARS Chocolate North America.
X-ALT-DESC;FMTTYPE=text/html:<p>Chocolatetunity?<u5:p></u5:p><o:p></o:p></p>\n\n<p>Fun - Simple - Friends/Family - Travel - Money - Support - Exclusive Premium Line of Dove Chocolate<u5:p></u5:p><o:p></o:p></p>\n\n<p>You won&#39\;t want to miss this Chocolatetunity!&nbsp\; Come be one of our VIP guest of something BIGGER than just CHOCOLATE.&nbsp\; <u5:p></u5:p><o:p></o:p></p>\n\n<p>Chocolate Martini Meet &amp\; Greet starts at 6:30pm&nbsp\;&nbsp\; Chocolatetunity Event starts at 7pm Sharp<u5:p></u5:p><o:p></o:p></p>\n\n<p>Samples\, Specials &amp\; Surprises<u5:p></u5:p><o:p></o:p></p>\n\n<p>Special Guest John Wyckoff\, President of Dove Chocolate Discoveries\, Division of MARS Chocolate North America.&nbsp\;<u5:p></u5:p><o:p></o:p></p>\n
LOCATION:Bridget's Cafe Main Street Zumbrota MN
UID:e.621.4492
SEQUENCE:3
DTSTAMP:20260424T183136Z
URL:https://public.lakecity.org/events/details/chocolatetunity-09-16-2015-4492
END:VEVENT

END:VCALENDAR
