BEGIN:VCALENDAR
VERSION:2.0
PRODID:-//ChamberMaster//Event Calendar 2.0//EN
METHOD:PUBLISH
X-PUBLISHED-TTL:P3D
REFRESH-INTERVAL:P3D
CALSCALE:GREGORIAN
BEGIN:VEVENT
DTSTART:20161203T140000Z
DTEND:20161203T180000Z
X-MICROSOFT-CDO-ALLDAYEVENT:FALSE
SUMMARY:Christmas Bazaar
DESCRIPTION:Christmas Bazaar: Cookie Walk\, Bake Sale\, Homemade Crafts\, Jewelry Tree\, Raffle Drawings on a Nativity Set with a Manger\, 3 Wisemen wall hanging & Reindeer and Sleigh\, and Silent Auction. Coffee and treats served all morning.
X-ALT-DESC;FMTTYPE=text/html:Christmas Bazaar: Cookie Walk\, Bake Sale\, Homemade Crafts\, Jewelry Tree\, Raffle Drawings on a Nativity Set with a Manger\, 3 Wisemen wall hanging &amp\; Reindeer and Sleigh\, and Silent Auction. Coffee and treats served all morning.
LOCATION:St. Mary's Catholic Church 419 West Lyon Ave. Lake City\, MN.
UID:e.621.5490
SEQUENCE:3
DTSTAMP:20260422T084451Z
URL:https://public.lakecity.org/events/details/christmas-bazaar-5490
END:VEVENT

END:VCALENDAR
