BEGIN:VCALENDAR
VERSION:2.0
PRODID:-//ChamberMaster//Event Calendar 2.0//EN
METHOD:PUBLISH
X-PUBLISHED-TTL:P3D
REFRESH-INTERVAL:P3D
CALSCALE:GREGORIAN
BEGIN:VEVENT
DTSTART:20171202T160000Z
DTEND:20171202T200000Z
X-MICROSOFT-CDO-ALLDAYEVENT:FALSE
SUMMARY:Christmas Decor from Pass It On
DESCRIPTION:Assorted Christmas decorations for sale from Pass It On. In order to have more space\, this event will be held in the Dining Hall of the First Congregational Church. While you are there\, enjoy a Soup Lunch and Bake Sale sponsored by the Mayflower Guild.
X-ALT-DESC;FMTTYPE=text/html:Assorted Christmas decorations for sale from Pass It On. In order to have more space\, this event will be held in the Dining Hall of the First Congregational Church. While you are there\, enjoy a Soup Lunch and Bake Sale sponsored by the Mayflower Guild.
LOCATION:First Congregational Church on the corner of Lyon Ave. (Hwy 63) and N. Oak St.\, Lake City\, MN
UID:e.621.6796
SEQUENCE:3
DTSTAMP:20260421T151119Z
URL:https://public.lakecity.org/events/details/christmas-decor-from-pass-it-on-6796
END:VEVENT

END:VCALENDAR
