BEGIN:VCALENDAR
VERSION:2.0
PRODID:-//ChamberMaster//Event Calendar 2.0//EN
METHOD:PUBLISH
X-PUBLISHED-TTL:P3D
REFRESH-INTERVAL:P3D
CALSCALE:GREGORIAN
BEGIN:VEVENT
DTSTART:20161203T150000Z
DTEND:20161203T200000Z
X-MICROSOFT-CDO-ALLDAYEVENT:FALSE
SUMMARY:Christmas Decor Sale
DESCRIPTION:Christmas decoration sale. Lots of different ideas and decorations. Sale is located in the garage at Pass It On and must be paid for in the garage. Hours are 9 am to 2 pm (or as long as people come).
X-ALT-DESC;FMTTYPE=text/html:Christmas decoration sale. Lots of different ideas and decorations. Sale is located in the garage at Pass It On and must be paid for in the garage. Hours are 9 am to 2 pm (or as long as people come).
LOCATION:Pass It On (in the garage) 118 N. Oak St. Lake City\, MN 55041
UID:e.621.5506
SEQUENCE:3
DTSTAMP:20260422T084556Z
URL:https://public.lakecity.org/events/details/christmas-decor-sale-5506
END:VEVENT

END:VCALENDAR
