BEGIN:VCALENDAR
VERSION:2.0
PRODID:-//ChamberMaster//Event Calendar 2.0//EN
METHOD:PUBLISH
X-PUBLISHED-TTL:P3D
REFRESH-INTERVAL:P3D
CALSCALE:GREGORIAN
BEGIN:VEVENT
DTSTART:20140628T110000Z
DTEND:20140628T110000Z
X-MICROSOFT-CDO-ALLDAYEVENT:FALSE
SUMMARY:Circle of Life Run/Walk
DESCRIPTION:Circle of Life Run/Walk\n\n5K\, 10K\, Half Marathon & Kids Fun Run
X-ALT-DESC;FMTTYPE=text/html:Circle of Life Run/Walk<br />\n5K\, 10K\, Half Marathon &amp\; Kids Fun Run
LOCATION:Underwood Park Lake City
UID:e.621.4011
SEQUENCE:3
DTSTAMP:20260425T172708Z
URL:https://public.lakecity.org/events/details/circle-of-life-run-walk-06-28-2014-4011
END:VEVENT

END:VCALENDAR
