BEGIN:VCALENDAR
VERSION:2.0
PRODID:-//ChamberMaster//Event Calendar 2.0//EN
METHOD:PUBLISH
X-PUBLISHED-TTL:P3D
REFRESH-INTERVAL:P3D
CALSCALE:GREGORIAN
BEGIN:VEVENT
DTSTART:20160924T140000Z
DTEND:20160925T220000Z
X-MICROSOFT-CDO-ALLDAYEVENT:FALSE
SUMMARY:Civil War Encampment
DESCRIPTION:Wabasha County Historical Society presents a Civil War Encampment. Educational opportunity to view life during the Civil War.
X-ALT-DESC;FMTTYPE=text/html:Wabasha County Historical Society presents a Civil War Encampment. Educational opportunity to view life during the Civil War.
LOCATION:Ed Malone Park Wabasha\, MN
UID:e.621.5445
SEQUENCE:3
DTSTAMP:20260422T141549Z
URL:https://public.lakecity.org/events/details/civil-war-encampment-5445
END:VEVENT

END:VCALENDAR
