BEGIN:VCALENDAR
VERSION:2.0
PRODID:-//ChamberMaster//Event Calendar 2.0//EN
METHOD:PUBLISH
X-PUBLISHED-TTL:P3D
REFRESH-INTERVAL:P3D
CALSCALE:GREGORIAN
BEGIN:VEVENT
DTSTART:20170611T190000Z
DTEND:20170611T210000Z
X-MICROSOFT-CDO-ALLDAYEVENT:FALSE
SUMMARY:Colin Mustful Presentation & Book Signing
DESCRIPTION:Colin Mustful is an author of Minnesota Frontier History. His books include: "Confronting Minnesota's Past\," "Fate of the Dakota\," "Grace at Spirit Lake\," and "Ceding Contempt."
X-ALT-DESC;FMTTYPE=text/html:Colin Mustful is an author of Minnesota Frontier History. His books include: &quot\;Confronting Minnesota&#39\;s Past\,&quot\; &quot\;Fate of the Dakota\,&quot\; &quot\;Grace at Spirit Lake\,&quot\; and &quot\;Ceding Contempt.&quot\;
LOCATION:Wabasha County Historical Society Reads Landing School Museum - Reads Landing\, MN
UID:e.621.5730
SEQUENCE:3
DTSTAMP:20260421T232909Z
URL:https://public.lakecity.org/events/details/colin-mustful-presentation-book-signing-5730
END:VEVENT

END:VCALENDAR
