BEGIN:VCALENDAR
VERSION:2.0
PRODID:-//ChamberMaster//Event Calendar 2.0//EN
METHOD:PUBLISH
X-PUBLISHED-TTL:P3D
REFRESH-INTERVAL:P3D
CALSCALE:GREGORIAN
BEGIN:VEVENT
DTSTART:20220112T190000Z
DTEND:20220112T210000Z
X-MICROSOFT-CDO-ALLDAYEVENT:FALSE
SUMMARY:Color & Chat Time
DESCRIPTION:Please join LCAA's colorful volunteer\, Billie Hunt Wednesdays 1-3PM to color and chat.  Color pencils and color sheets available or bring your own supplies.  This relaxing and enjoyable activity starts January 5th.  Free to all members\, nonmembers there is a suggested $5 donation. Coffee pot will be on!
X-ALT-DESC;FMTTYPE=text/html:<span id="docs-internal-guid-69e0ac74-7fff-5fb9-2c43-7841745da416"><span style="font-size: 10pt\; font-family: Arial\; color: rgb(5\, 5\, 5)\; font-variant-numeric: normal\; font-variant-east-asian: normal\; vertical-align: baseline\; white-space: pre-wrap\;">Please join LCAA&#39\;s colorful volunteer\, Billie Hunt Wednesdays 1-3PM to color and chat.&nbsp\; Color pencils and color sheets available or bring your own supplies.&nbsp\; This relaxing and enjoyable activity starts January 5th.&nbsp\; Free to all members\, nonmembers there is a suggested $5 donation. Coffee pot will be on!&nbsp\; </span></span>
LOCATION:
UID:e.621.8524
SEQUENCE:3
DTSTAMP:20260423T143806Z
URL:https://public.lakecity.org/events/details/color-chat-time-01-12-2022-8524
END:VEVENT

END:VCALENDAR
