BEGIN:VCALENDAR
VERSION:2.0
PRODID:-//ChamberMaster//Event Calendar 2.0//EN
METHOD:PUBLISH
X-PUBLISHED-TTL:P3D
REFRESH-INTERVAL:P3D
CALSCALE:GREGORIAN
BEGIN:VEVENT
DTSTART:20160901T190000Z
DTEND:20170629T210000Z
X-MICROSOFT-CDO-ALLDAYEVENT:FALSE
SUMMARY:Color Me Thursdays
DESCRIPTION:This is an ongoing activity every Thursday afternoon. We provide the coloring sheets and colored pencils. Members of the community can come anytime between 2:00 and 4:00pm. This activity can help reduce stress\, improve memory\, and improve creativity. Plus -- it's fun!
X-ALT-DESC;FMTTYPE=text/html:This is an ongoing activity every Thursday afternoon. We provide the coloring sheets and colored pencils. Members of the community can come anytime between 2:00 and 4:00pm. This activity can help reduce stress\, improve memory\, and improve creativity. Plus -- it&#39\;s fun!
LOCATION:Lake City Public Library
UID:e.621.5464
SEQUENCE:3
DTSTAMP:20260421T232739Z
URL:https://public.lakecity.org/events/details/color-me-thursdays-5464
END:VEVENT

END:VCALENDAR
