BEGIN:VCALENDAR
VERSION:2.0
PRODID:-//ChamberMaster//Event Calendar 2.0//EN
METHOD:PUBLISH
X-PUBLISHED-TTL:P3D
REFRESH-INTERVAL:P3D
CALSCALE:GREGORIAN
BEGIN:VEVENT
DTSTART:20150810T140000Z
DTEND:20150810T200000Z
X-MICROSOFT-CDO-ALLDAYEVENT:FALSE
SUMMARY:Community Blood Drive
DESCRIPTION:Community Blood Drive For an appointment please visit www.redcrossblood.org and search Sponsor Code: frontenacmn or call 1-800-RED CROSS (733-2767)
X-ALT-DESC;FMTTYPE=text/html:Community Blood Drive For an appointment please visit www.redcrossblood.org and search Sponsor Code: frontenacmn or call 1-800-RED CROSS (733-2767)
LOCATION:Ursuline Hall 29847 County 2 Blvd
UID:e.621.4473
SEQUENCE:3
DTSTAMP:20260424T200502Z
URL:https://public.lakecity.org/events/details/community-blood-drive-08-10-2015-4473
END:VEVENT

END:VCALENDAR
