BEGIN:VCALENDAR
VERSION:2.0
PRODID:-//ChamberMaster//Event Calendar 2.0//EN
METHOD:PUBLISH
X-PUBLISHED-TTL:P3D
REFRESH-INTERVAL:P3D
CALSCALE:GREGORIAN
BEGIN:VEVENT
DTSTART:20160724T190000Z
DTEND:20160724T203000Z
X-MICROSOFT-CDO-ALLDAYEVENT:FALSE
SUMMARY:Concert
DESCRIPTION:Flip Side will be playing Sunday\, July 24\, 2016\, from 2:00 to 3:30 at The Bluffs. The event is sponsored by the Woman's Club of Lake City. Refreshments will be served. Everyone is welcome to attend.
X-ALT-DESC;FMTTYPE=text/html:Flip Side will be playing Sunday\, July 24\, 2016\, from 2:00 to 3:30 at The Bluffs. The event is sponsored by the Woman&#39\;s Club of Lake City. Refreshments will be served. Everyone is welcome to attend.
LOCATION:The Bluffs Senior Living Center 480 West Grant St. Lake City\, MN 55041
UID:e.621.5412
SEQUENCE:3
DTSTAMP:20260422T155050Z
URL:https://public.lakecity.org/events/details/concert-07-24-2016-5412
END:VEVENT

END:VCALENDAR
