BEGIN:VCALENDAR
VERSION:2.0
PRODID:-//ChamberMaster//Event Calendar 2.0//EN
METHOD:PUBLISH
X-PUBLISHED-TTL:P3D
REFRESH-INTERVAL:P3D
CALSCALE:GREGORIAN
BEGIN:VEVENT
DTSTART:20170709T190000Z
DTEND:20170709T203000Z
X-MICROSOFT-CDO-ALLDAYEVENT:FALSE
SUMMARY:Concert in Patton Park
DESCRIPTION:Turkey River All-Stars performance sponsored by The Woman's Club of Lake City. Bring your chair/blanket and enjoy some great music!
X-ALT-DESC;FMTTYPE=text/html:Turkey River All-Stars performance sponsored by The Woman&#39\;s Club of Lake City. Bring your chair/blanket and enjoy some great music!
LOCATION:Patton Park. If inclement weather\, St. Mark's Episcopal Church\, 110 S. Oak St.
UID:e.621.5744
SEQUENCE:3
DTSTAMP:20260421T233053Z
URL:https://public.lakecity.org/events/details/concert-in-patton-park-07-09-2017-5744
END:VEVENT

END:VCALENDAR
