BEGIN:VCALENDAR
VERSION:2.0
PRODID:-//ChamberMaster//Event Calendar 2.0//EN
METHOD:PUBLISH
X-PUBLISHED-TTL:P3D
REFRESH-INTERVAL:P3D
CALSCALE:GREGORIAN
BEGIN:VEVENT
DTSTART:20160814T190000Z
DTEND:20160814T200000Z
X-MICROSOFT-CDO-ALLDAYEVENT:FALSE
SUMMARY:Conservation in Wabasha C
DESCRIPTION:Presentation: Conservation in Wabasha County\, The History of Land Use\, by Terry Helbig.
X-ALT-DESC;FMTTYPE=text/html:Presentation: Conservation in Wabasha County\, The History of Land Use\, by Terry Helbig.
LOCATION:Reads Landing School Museum Reads Landing\, MN
UID:e.621.5415
SEQUENCE:3
DTSTAMP:20260422T155155Z
URL:https://public.lakecity.org/events/details/conservation-in-wabasha-c-08-14-2016-5415
END:VEVENT

END:VCALENDAR
