BEGIN:VCALENDAR
VERSION:2.0
PRODID:-//ChamberMaster//Event Calendar 2.0//EN
METHOD:PUBLISH
X-PUBLISHED-TTL:P3D
REFRESH-INTERVAL:P3D
CALSCALE:GREGORIAN
BEGIN:VEVENT
DTSTART;VALUE=DATE:20140927
DTEND;VALUE=DATE:20140929
TRANSP:TRANSPARENT
X-MICROSOFT-CDO-ALLDAYEVENT:TRUE
SUMMARY:Corn Shredding Autumn Harvest Days - 15th Annual
DESCRIPTION:Come see history at work and try your hand at it!  Activities and fun for all ages.  Saturday 9am to 5pm and Sunday 10am to 5pm.  Held near Oak Center\, MN  64245 355th Ave. \n\nComplete details here\n\n\n\n$5 for a collectors button  - good for both days. \n\nChildren 12 and under Free. \n\n\n\nCorn Shelling\, Threshing\, Slow Race\, Corn Binding\, Silo Filing\, Rope Making\, Potato Digging\, Farm Toys on Display and For Sale\, Machinery on Display\, Country Store\, Plowing\, Flea Market\, Blacksmith Demos.\n\n\n\nEXHIBITORS WELCOME\n\n\n\nPOSTER
X-ALT-DESC;FMTTYPE=text/html:Come see history at work and try your hand at it!&nbsp\; Activities and fun for all ages.&nbsp\; Saturday 9am to 5pm and Sunday 10am to 5pm.&nbsp\; Held near Oak Center\, MN&nbsp\; 64245 355th Ave.&nbsp\;<br />\nComplete details <a href="http://cloud.chambermaster.com/userfiles/UserFiles/chambers/621/File/scan0003.jpg">here</a><br />\n<br />\n$5 for a collectors button&nbsp\; - good for both days.&nbsp\;<br />\nChildren 12 and under Free.&nbsp\;<br />\n<br />\nCorn Shelling\, Threshing\, Slow Race\, Corn Binding\, Silo Filing\, Rope Making\, Potato Digging\, Farm Toys on Display and For Sale\, Machinery on Display\, Country Store\, Plowing\, Flea Market\, Blacksmith Demos.<br />\n<br />\nEXHIBITORS WELCOME<br />\n<br />\n<a href="http://cloud.chambermaster.com/userfiles/UserFiles/chambers/621/File/cornshredding.docx">POSTER</a>
LOCATION:64245 355th Ave. Between Oak Center and Zumbro Falls
UID:e.621.2856
SEQUENCE:3
DTSTAMP:20260425T124753Z
URL:https://public.lakecity.org/events/details/corn-shredding-autumn-harvest-days-15th-annual-09-27-2014-2856
END:VEVENT

END:VCALENDAR
