BEGIN:VCALENDAR
VERSION:2.0
PRODID:-//ChamberMaster//Event Calendar 2.0//EN
METHOD:PUBLISH
X-PUBLISHED-TTL:P3D
REFRESH-INTERVAL:P3D
CALSCALE:GREGORIAN
BEGIN:VEVENT
DTSTART:20140718T223000Z
DTEND:20140719T020000Z
X-MICROSOFT-CDO-ALLDAYEVENT:FALSE
SUMMARY:Couples Night Golf
DESCRIPTION:Couples Night at Lake City Golf Club\n\nLooking for a fun night out with friends? Golf and Games!\n\nJoin us at the Lake City Golf Club for our Minnesota Sports Golf Night!\n\nWear your favorite Minnesota sport apparel! (optional)
X-ALT-DESC;FMTTYPE=text/html:Couples Night at Lake City Golf Club<br />\nLooking for a fun night out with friends? Golf and Games!<br />\nJoin us at the Lake City Golf Club for our Minnesota Sports Golf Night!<br />\nWear your favorite Minnesota sport apparel! (optional)
LOCATION:Lake City Golf Club
UID:e.621.3127
SEQUENCE:3
DTSTAMP:20260425T155457Z
URL:https://public.lakecity.org/events/details/couples-night-golf-07-18-2014-3127
END:VEVENT

END:VCALENDAR
