BEGIN:VCALENDAR
VERSION:2.0
PRODID:-//ChamberMaster//Event Calendar 2.0//EN
METHOD:PUBLISH
X-PUBLISHED-TTL:P3D
REFRESH-INTERVAL:P3D
CALSCALE:GREGORIAN
BEGIN:VEVENT
DTSTART:20140302T230000Z
DTEND:20140303T013000Z
X-MICROSOFT-CDO-ALLDAYEVENT:FALSE
SUMMARY:Cowboy Chili Night
DESCRIPTION:Bring your chili\, your family and your friends! CHILI COOK-OFF!! GAMES AND CRAFTS!! WESTERN MOVIE!! Enter your famous chili recipe to battle it out for Judges? Choice and Peoples? Choice?not only will you get bragging rights\, but you will help our youth raise money for STORM camp (Service To Others in Relational Ministry ? our youth go and help others in practical ways\, such as painting\, yard work\, staining decks\, etc)!!
X-ALT-DESC;FMTTYPE=text/html:Bring your chili\, your family and your friends! CHILI COOK-OFF!! GAMES AND CRAFTS!! WESTERN MOVIE!! Enter your famous chili recipe to battle it out for Judges? Choice and Peoples? Choice?not only will you get bragging rights\, but you will help our youth raise money for STORM camp (Service To Others in Relational Ministry ? our youth go and help others in practical ways\, such as painting\, yard work\, staining decks\, etc)!!
LOCATION:United Methodist Church 213 North Oak Street Lake City\, MN 55041
UID:e.621.3572
SEQUENCE:3
DTSTAMP:20260426T002525Z
URL:https://public.lakecity.org/events/details/cowboy-chili-night-03-02-2014-3572
END:VEVENT

END:VCALENDAR
