BEGIN:VCALENDAR
VERSION:2.0
PRODID:-//ChamberMaster//Event Calendar 2.0//EN
METHOD:PUBLISH
X-PUBLISHED-TTL:P3D
REFRESH-INTERVAL:P3D
CALSCALE:GREGORIAN
BEGIN:VEVENT
DTSTART:20160212T200000Z
DTEND:20160213T200000Z
X-MICROSOFT-CDO-ALLDAYEVENT:FALSE
SUMMARY:Crendor Event
DESCRIPTION:It?s a Craft Fair\, it?s a Vendor Show\, it?s a Bake Sale? It?s The Bluffs of Lake City Crendor Event! Save yourself some time this Valentine?s Day ? stop in at The Bluffs of Lake City\, shop around\, and buy some treats for your sweetie! We will have crafters selling their hand-made goods\, vendors selling those must-haves that you can?t get in the stores\, and bakers offering up their mouth-watering confections.
X-ALT-DESC;FMTTYPE=text/html:It?s a Craft Fair\, it?s a Vendor Show\, it?s a Bake Sale? It?s The Bluffs of Lake City Crendor Event! Save yourself some time this Valentine?s Day ? stop in at The Bluffs of Lake City\, shop around\, and buy some treats for your sweetie! We will have crafters selling their hand-made goods\, vendors selling those must-haves that you can?t get in the stores\, and bakers offering up their mouth-watering confections.
LOCATION:The Bluffs of Lake City 480 West Grant Street Lake City\, MN 55041
UID:e.621.4538
SEQUENCE:3
DTSTAMP:20260424T103302Z
URL:https://public.lakecity.org/events/details/crendor-event-02-12-2016-4538
END:VEVENT

END:VCALENDAR
