BEGIN:VCALENDAR
VERSION:2.0
PRODID:-//ChamberMaster//Event Calendar 2.0//EN
METHOD:PUBLISH
X-PUBLISHED-TTL:P3D
REFRESH-INTERVAL:P3D
CALSCALE:GREGORIAN
BEGIN:VEVENT
DTSTART:20170217T003000Z
DTEND:20170217T013000Z
X-MICROSOFT-CDO-ALLDAYEVENT:FALSE
SUMMARY:Cross Stitch for Beginners
DESCRIPTION:Join us in a simple activity that many of the early pioneers enjoyed: cross stitch. This event is for ages 10 and up\; registration is required.
X-ALT-DESC;FMTTYPE=text/html:Join us in a simple activity that many of the early pioneers enjoyed: cross stitch. This event is for ages 10 and up\; registration is required.
LOCATION:Lake City Public Library
UID:e.621.5670
SEQUENCE:3
DTSTAMP:20260422T070853Z
URL:https://public.lakecity.org/events/details/cross-stitch-for-beginners-5670
END:VEVENT

END:VCALENDAR
