BEGIN:VCALENDAR
VERSION:2.0
PRODID:-//ChamberMaster//Event Calendar 2.0//EN
METHOD:PUBLISH
X-PUBLISHED-TTL:P3D
REFRESH-INTERVAL:P3D
CALSCALE:GREGORIAN
BEGIN:VEVENT
DTSTART:20160626T133000Z
DTEND:20160626T170000Z
X-MICROSOFT-CDO-ALLDAYEVENT:FALSE
SUMMARY:Dad's Belgian Waffle Breakfast
DESCRIPTION:Dad's Belgian Waffle Breakfast-All you can eat Serving waffles\,sausages\,toppings and beverage
X-ALT-DESC;FMTTYPE=text/html:Dad&#39\;s Belgian Waffle Breakfast-All you can eat Serving waffles\,sausages\,toppings and beverage
LOCATION:St.Mary's Catholic Church 419 W.\,Lyon Ave Lake City\,MN
UID:e.621.5245
SEQUENCE:3
DTSTAMP:20260422T182646Z
URL:https://public.lakecity.org/events/details/dad-s-belgian-waffle-breakfast-06-26-2016-5245
END:VEVENT

END:VCALENDAR
