BEGIN:VCALENDAR
VERSION:2.0
PRODID:-//ChamberMaster//Event Calendar 2.0//EN
METHOD:PUBLISH
X-PUBLISHED-TTL:P3D
REFRESH-INTERVAL:P3D
CALSCALE:GREGORIAN
BEGIN:VEVENT
DTSTART:20150829T000000Z
DTEND:20150829T230000Z
X-MICROSOFT-CDO-ALLDAYEVENT:FALSE
SUMMARY:Dances of Universal Retreat Weekend
DESCRIPTION:Sacred circle dances\, singing names of the Divine from world's spiritual traditions. We create community and retreat in peace\, healing and unity.
X-ALT-DESC;FMTTYPE=text/html:Sacred circle dances\, singing names of the Divine from world&#39\;s spiritual traditions. We create community and retreat in peace\, healing and unity.
LOCATION:Villa Maria Retreat Center 29847 county 2 Blvd Frontenac\, Minnesota 55026
UID:e.621.4465
SEQUENCE:3
DTSTAMP:20260424T201202Z
URL:https://public.lakecity.org/events/details/dances-of-universal-retreat-weekend-08-28-2015-4465
END:VEVENT

END:VCALENDAR
