BEGIN:VCALENDAR
VERSION:2.0
PRODID:-//ChamberMaster//Event Calendar 2.0//EN
METHOD:PUBLISH
X-PUBLISHED-TTL:P3D
REFRESH-INTERVAL:P3D
CALSCALE:GREGORIAN
BEGIN:VEVENT
DTSTART:20180103T233000Z
DTEND:20180103T123000Z
X-MICROSOFT-CDO-ALLDAYEVENT:FALSE
SUMMARY:Destination Lake City General Meeting
DESCRIPTION:
X-ALT-DESC;FMTTYPE=text/html:
LOCATION:VFW
UID:e.621.4591
SEQUENCE:3
DTSTAMP:20260421T115246Z
URL:https://public.lakecity.org/events/details/destination-lake-city-general-meeting-01-03-2018-4591
END:VEVENT

END:VCALENDAR
