BEGIN:VCALENDAR
VERSION:2.0
PRODID:-//ChamberMaster//Event Calendar 2.0//EN
METHOD:PUBLISH
X-PUBLISHED-TTL:P3D
REFRESH-INTERVAL:P3D
CALSCALE:GREGORIAN
BEGIN:VEVENT
DTSTART:20171004T223000Z
DTEND:20171004T113000Z
X-MICROSOFT-CDO-ALLDAYEVENT:FALSE
SUMMARY:Destination Lake City General Meeting
DESCRIPTION:
X-ALT-DESC;FMTTYPE=text/html:
LOCATION:VFW
UID:e.621.4588
SEQUENCE:3
DTSTAMP:20260421T170703Z
URL:https://public.lakecity.org/events/details/destination-lake-city-general-meeting-10-04-2017-4588
END:VEVENT

END:VCALENDAR
