BEGIN:VCALENDAR
VERSION:2.0
PRODID:-//ChamberMaster//Event Calendar 2.0//EN
METHOD:PUBLISH
X-PUBLISHED-TTL:P3D
REFRESH-INTERVAL:P3D
CALSCALE:GREGORIAN
BEGIN:VEVENT
DTSTART:20161207T233000Z
DTEND:20161207T123000Z
X-MICROSOFT-CDO-ALLDAYEVENT:FALSE
SUMMARY:Destination Lake City General Meeting
DESCRIPTION:
X-ALT-DESC;FMTTYPE=text/html:
LOCATION:VFW
UID:e.621.4578
SEQUENCE:3
DTSTAMP:20260422T101851Z
URL:https://public.lakecity.org/events/details/destination-lake-city-general-meeting-12-07-2016-4578
END:VEVENT

END:VCALENDAR
