BEGIN:VCALENDAR
VERSION:2.0
PRODID:-//ChamberMaster//Event Calendar 2.0//EN
METHOD:PUBLISH
X-PUBLISHED-TTL:P3D
REFRESH-INTERVAL:P3D
CALSCALE:GREGORIAN
BEGIN:VEVENT
DTSTART:20160721T140000Z
DTEND:20160725T230000Z
X-MICROSOFT-CDO-ALLDAYEVENT:FALSE
SUMMARY:Discover Columbus' Ships
DESCRIPTION:Lake City Marina and Lake City Yacht Club will once again welcome the Columbus Foundation and the Columbus replica ships - our original Ni a\, the most historically accurate replica of a Columbus Ship ever built\, and recently-built Pinta. Both The Ni a and Pinta will be touring together as a new and enhanced 'sailing museum'\, for the purpose of educating the public and school children on the 'caravel'\, a Portuguese ship used by Columbus and many early explorers to discover the world.
X-ALT-DESC;FMTTYPE=text/html:Lake City Marina and Lake City Yacht Club will once again welcome the Columbus Foundation and the Columbus replica ships - our original Ni&ntilde\;a\, the most historically accurate replica of a Columbus Ship ever built\, and recently-built Pinta. Both The Ni&ntilde\;a and Pinta will be touring together as a new and enhanced &lsquo\;sailing museum&rsquo\;\, for the purpose of educating the public and school children on the &lsquo\;caravel&rsquo\;\, a Portuguese ship used by Columbus and many early explorers to discover the world.
LOCATION:Lake City Marina
UID:e.621.5399
SEQUENCE:3
DTSTAMP:20260422T170030Z
URL:https://public.lakecity.org/events/details/discover-columbus-ships-07-21-2016-5399
END:VEVENT

END:VCALENDAR
