BEGIN:VCALENDAR
VERSION:2.0
PRODID:-//ChamberMaster//Event Calendar 2.0//EN
METHOD:PUBLISH
X-PUBLISHED-TTL:P3D
REFRESH-INTERVAL:P3D
CALSCALE:GREGORIAN
BEGIN:VEVENT
DTSTART:20161111T003000Z
DTEND:20161111T020000Z
X-MICROSOFT-CDO-ALLDAYEVENT:FALSE
SUMMARY:Dishing Up a Minnesota Thanksgiving with cookbook author Teresa Marrone
DESCRIPTION:Come meet cookbook author Teresa Marrone and learn about delicious Minnesota ingredients to make your best Thanksgiving dinner ever!
X-ALT-DESC;FMTTYPE=text/html:Come meet cookbook author Teresa Marrone and learn about delicious Minnesota ingredients to make your best Thanksgiving dinner ever!
LOCATION:Lake City Public Library
UID:e.621.5467
SEQUENCE:3
DTSTAMP:20260422T103550Z
URL:https://public.lakecity.org/events/details/dishing-up-a-minnesota-thanksgiving-with-cookbook-author-teresa-marrone-5467
END:VEVENT

END:VCALENDAR
