BEGIN:VCALENDAR
VERSION:2.0
PRODID:-//ChamberMaster//Event Calendar 2.0//EN
METHOD:PUBLISH
X-PUBLISHED-TTL:P3D
REFRESH-INTERVAL:P3D
CALSCALE:GREGORIAN
BEGIN:VEVENT
DTSTART;VALUE=DATE:20151004
DTEND;VALUE=DATE:20151005
TRANSP:TRANSPARENT
X-MICROSOFT-CDO-ALLDAYEVENT:TRUE
SUMMARY:DO-IT-YOURSELF HISTORY DAY
DESCRIPTION:From 1-5pm on Sunday\, October 4th visit the History Center for Do-It-Yourself History Day. There will be a preservation workshop led by museum professionals at 3pm\, and guests will also hear about an exciting local history project from two exceptional Twin Bluff students. ArtReach will lead a memory box craft throughout the day. DIY History Day is a part of Free Family Fun Day and is free and open to the public.
X-ALT-DESC;FMTTYPE=text/html:<p align="LEFT">&nbsp\;</p>\n\n<p><font size="3">From 1-5pm on Sunday\, October 4</font><font size="1">th </font><font size="3">visit the History Center for Do-It-Yourself History Day. There will be a preservation workshop led by museum professionals at 3pm\, and guests will also hear about an exciting local history project from two exceptional Twin Bluff students. ArtReach will lead a memory box craft throughout the day. DIY History Day is a part of Free Family Fun Day and is free and open to the public. </font></p>\n
LOCATION:Goodhue County Historical Society 1166 Oak Street Red Wing\, Minnesota 55066
UID:e.621.4506
SEQUENCE:3
DTSTAMP:20260424T165722Z
URL:https://public.lakecity.org/events/details/do-it-yourself-history-day-10-04-2015-4506
END:VEVENT

END:VCALENDAR
