BEGIN:VCALENDAR
VERSION:2.0
PRODID:-//ChamberMaster//Event Calendar 2.0//EN
METHOD:PUBLISH
X-PUBLISHED-TTL:P3D
REFRESH-INTERVAL:P3D
CALSCALE:GREGORIAN
BEGIN:VEVENT
DTSTART;VALUE=DATE:20151107
DTEND;VALUE=DATE:20151109
TRANSP:TRANSPARENT
X-MICROSOFT-CDO-ALLDAYEVENT:TRUE
SUMMARY:Doe Days
DESCRIPTION:Special events/promotions at participating businesses all over town!
X-ALT-DESC;FMTTYPE=text/html:Special events/promotions at participating businesses all over town!
LOCATION:Lake City\, MN
UID:e.621.4293
SEQUENCE:3
DTSTAMP:20260424T152725Z
URL:https://public.lakecity.org/events/details/doe-days-11-07-2015-4293
END:VEVENT

END:VCALENDAR
