BEGIN:VCALENDAR
VERSION:2.0
PRODID:-//ChamberMaster//Event Calendar 2.0//EN
METHOD:PUBLISH
X-PUBLISHED-TTL:P3D
REFRESH-INTERVAL:P3D
CALSCALE:GREGORIAN
BEGIN:VEVENT
DTSTART;VALUE=DATE:20211106
DTEND;VALUE=DATE:20211108
TRANSP:TRANSPARENT
X-MICROSOFT-CDO-ALLDAYEVENT:TRUE
SUMMARY:Doe Days
DESCRIPTION:Doe Days!\n\nA weekend full of fun and specials at several participating Lake City retailers. \n\n\n\n*One event is the used book sale at the former public safety building from 10am-4pm\n\n    ~$5.00 bag sale begins at 3pm
X-ALT-DESC;FMTTYPE=text/html:Doe Days!<br />\nA weekend full of fun and specials at several participating Lake City retailers.&nbsp\;<br />\n<br />\n*One event is the used book sale at the former public safety building from 10am-4pm<br />\n&nbsp\; &nbsp\; ~$5.00 bag sale begins at 3pm
LOCATION:
UID:e.621.8274
SEQUENCE:3
DTSTAMP:20260423T181438Z
URL:https://public.lakecity.org/events/details/doe-days-8274
END:VEVENT

END:VCALENDAR
