BEGIN:VCALENDAR
VERSION:2.0
PRODID:-//ChamberMaster//Event Calendar 2.0//EN
METHOD:PUBLISH
X-PUBLISHED-TTL:P3D
REFRESH-INTERVAL:P3D
CALSCALE:GREGORIAN
BEGIN:VEVENT
DTSTART:20150808T143000Z
DTEND:20150808T163000Z
X-MICROSOFT-CDO-ALLDAYEVENT:FALSE
SUMMARY:Down on the Farm- Free Family Fun
DESCRIPTION:Parents and children are invited to come to explore the farm in many different ways. We will have live animals\, a combine\, a semi and other farm equipment the children can explore. We will have literacy centers in the gym for more fun! Play games\, listen to stories\, make butter and milk our "cow" are just a few the things we have planned.
X-ALT-DESC;FMTTYPE=text/html:Parents and children are invited to come to explore the farm in many different ways. We will have live animals\, a combine\, a semi and other farm equipment the children can explore. We will have literacy centers in the gym for more fun! Play games\, listen to stories\, make butter and milk our &quot\;cow&quot\; are just a few the things we have planned.
LOCATION:St. John's Lutheran School and Roots to Wings Learning Center 516 West Chestnut St
UID:e.621.4483
SEQUENCE:3
DTSTAMP:20260424T201234Z
URL:https://public.lakecity.org/events/details/down-on-the-farm-free-family-fun-08-08-2015-4483
END:VEVENT

END:VCALENDAR
