BEGIN:VCALENDAR
VERSION:2.0
PRODID:-//ChamberMaster//Event Calendar 2.0//EN
METHOD:PUBLISH
X-PUBLISHED-TTL:P3D
REFRESH-INTERVAL:P3D
CALSCALE:GREGORIAN
BEGIN:VEVENT
DTSTART:20140108T010000Z
DTEND:20140108T030000Z
X-MICROSOFT-CDO-ALLDAYEVENT:FALSE
SUMMARY:Eighth Air Force & the War Over Europe
DESCRIPTION:Eighth Air Force & the War Over Europe\n\nTo acknowledge the immense effort put forth by our WWII veterans. Moderated by Minnesota historian Michael Eckers\, a Vietnam War veteran.
X-ALT-DESC;FMTTYPE=text/html:Eighth Air Force &amp\; the War Over Europe<br />\nTo acknowledge the immense effort put forth by our WWII veterans. Moderated by Minnesota historian Michael Eckers\, a Vietnam War veteran.<br />\n<br />\n
LOCATION:Lake City Hall Ballroom 205 W. Center
UID:e.621.3424
SEQUENCE:3
DTSTAMP:20260426T031654Z
URL:https://public.lakecity.org/events/details/eighth-air-force-the-war-over-europe-01-07-2014-3424
END:VEVENT

END:VCALENDAR
