BEGIN:VCALENDAR
VERSION:2.0
PRODID:-//ChamberMaster//Event Calendar 2.0//EN
METHOD:PUBLISH
X-PUBLISHED-TTL:P3D
REFRESH-INTERVAL:P3D
CALSCALE:GREGORIAN
BEGIN:VEVENT
DTSTART:20150324T200000Z
DTEND:20150324T220000Z
X-MICROSOFT-CDO-ALLDAYEVENT:FALSE
SUMMARY:Exit & Succesion Strategies for Farmers
DESCRIPTION:Exit & Succession Strategies for Farmers \n\n-  Where do I start? \n\nDo I handle all of the concerns at the same time? \n\nWho do I transition the farm to? \n\nHow do I make it fair? \n\nKeeping your farm in your family is a top priority for most farmers\, we're here to help.\n\nTheiseducational session is to provide information for farmers on exit and succession strategies for their farms and businesses. Session hosted by Waddell & Reed\, Inc.\, Pat Lowther Law and Securian Financial Services\, Inc.
X-ALT-DESC;FMTTYPE=text/html:<span style="color:rgb(0\, 43\, 56)"><span style="font-size:14px"><span style="font-family:impact\,sans-serif">Exit &amp\; Succession Strategies for Farmers </span></span><br />\n<span style="font-size:18pt"><span style="font-family:garamond\,serif">-&nbsp\; </span></span><span style="font-size:14px"><span style="font-family:garamond\,serif">Where do I start? </span></span></span><br />\n<span style="font-size:14px"><span style="font-family:garamond\,serif">Do I handle all of the concerns at the same time? </span></span><br />\n<span style="font-size:14px"><span style="font-family:garamond\,serif">Who do I transition the farm to? </span></span><br />\n<span style="font-size:14px"><span style="font-family:garamond\,serif">How do I make it fair? </span></span><br />\n<span style="font-size:14px"><span style="font-family:garamond\,serif">Keeping your farm in your family is a top priority for most farmers\, we&rsquo\;re here to help.<br />\nTheiseducational&nbsp\;session is&nbsp\;to provide information for farmers on exit and succession strategies for their farms and businesses. Session hosted by Waddell &amp\; Reed\, Inc.\, Pat Lowther Law and Securian Financial Services\, Inc. </span></span><br />\n&nbsp\;
LOCATION:AmericInn Airport\, Rochester\, MN
UID:e.621.4392
SEQUENCE:3
DTSTAMP:20260425T032834Z
URL:https://public.lakecity.org/events/details/exit-succesion-strategies-for-farmers-03-24-2015-4392
END:VEVENT

END:VCALENDAR
