BEGIN:VCALENDAR
VERSION:2.0
PRODID:-//ChamberMaster//Event Calendar 2.0//EN
METHOD:PUBLISH
X-PUBLISHED-TTL:P3D
REFRESH-INTERVAL:P3D
CALSCALE:GREGORIAN
BEGIN:VEVENT
DTSTART:20170208T003000Z
DTEND:20170208T013000Z
X-MICROSOFT-CDO-ALLDAYEVENT:FALSE
SUMMARY:Exploring Pioneer Life in Goodhue County
DESCRIPTION:Dustin Heckman\, Executive Director of the Goodhue County Historical Society will present information on early pioneer life as part of the library's I Love to Read Month. Take a journey through this time period to learn about the hardships that faced new residents of Goodhue County and how they adapted to make this place their home.
X-ALT-DESC;FMTTYPE=text/html:Dustin Heckman\, Executive Director of the Goodhue County Historical Society will present information on early pioneer life as part of the library&#39\;s I Love to Read Month. Take a journey through this time period to learn about the hardships that faced new residents of Goodhue County and how they adapted to make this place their home.
LOCATION:Lake City Public Library
UID:e.621.5666
SEQUENCE:3
DTSTAMP:20260422T055818Z
URL:https://public.lakecity.org/events/details/exploring-pioneer-life-in-goodhue-county-5666
END:VEVENT

END:VCALENDAR
