BEGIN:VCALENDAR
VERSION:2.0
PRODID:-//ChamberMaster//Event Calendar 2.0//EN
METHOD:PUBLISH
X-PUBLISHED-TTL:P3D
REFRESH-INTERVAL:P3D
CALSCALE:GREGORIAN
BEGIN:VEVENT
DTSTART:20250928T170000Z
DTEND:20250928T190000Z
X-MICROSOFT-CDO-ALLDAYEVENT:FALSE
SUMMARY:Fall Fest - Fun Zone Grand Opening
DESCRIPTION:Fun Zone Opening Day Celebration  \n\nJoin us in Patton Park on Saturday\, September 28th from noon to 2pm as we kick off the Fall Fest Fun Zone with a special Opening Day celebration!\n\nThis family-friendly event features an adorable petting zoo\, tasty eats from local food trucks\, and the very first look at all the interactive games and activities in this year's Fun Zone. It's the perfect way to welcome the fall season with your whole crew!\n\n  Patton Park\n\n  Saturday\, September 28 | 12:00 2:00 PM\n\n  Petting Zoo |   Food Trucks |   Family Fun\n\nCome celebrate the start of the season with us!
X-ALT-DESC;FMTTYPE=text/html:<p data-end="288" data-start="86">&#127881\; <strong data-end="125" data-start="89">Fun Zone Opening Day Celebration</strong> &#127881\;<br data-end="131" data-start="128" />\nJoin us in <strong data-end="157" data-start="142">Patton Park</strong> on <strong data-end="206" data-start="161">Saturday\, September 28th from noon to 2pm</strong> as we kick off the <strong data-end="248" data-is-only-node="" data-start="226">Fall Fest Fun Zone</strong> with a special Opening Day celebration!</p>\n\n<p data-end="558" data-start="290">This <em data-end="312" data-start="295">family-friendly</em> event features an adorable <strong data-end="355" data-start="340">petting zoo</strong>\, tasty eats from <strong data-end="394" data-start="373">local food trucks</strong>\, and the very first look at all the interactive games and activities in this year&rsquo\;s Fun Zone. It&#39\;s the perfect way to welcome the fall season with your whole crew!</p>\n\n<p data-end="670" data-start="560">&#128205\; Patton Park<br data-end="577" data-start="574" />\n&#128347\; Saturday\, September 28 | 12:00&ndash\;2:00 PM<br data-end="621" data-start="618" />\n&#128016\; Petting Zoo | &#127828\; Food Trucks | &#127919\; Family Fun</p>\n\n<p data-end="719" data-is-last-node="" data-is-only-node="" data-start="672">Come celebrate the start of the season with us!</p>\n
LOCATION:112-142 S High St Lake City\, MN 55041
UID:e.621.10175
SEQUENCE:3
DTSTAMP:20260421T101938Z
URL:https://public.lakecity.org/events/details/fall-fest-fun-zone-grand-opening-10175
END:VEVENT

END:VCALENDAR
