BEGIN:VCALENDAR
VERSION:2.0
PRODID:-//ChamberMaster//Event Calendar 2.0//EN
METHOD:PUBLISH
X-PUBLISHED-TTL:P3D
REFRESH-INTERVAL:P3D
CALSCALE:GREGORIAN
BEGIN:VEVENT
DTSTART:20150926T150000Z
DTEND:20150927T210000Z
X-MICROSOFT-CDO-ALLDAYEVENT:FALSE
SUMMARY:Farm & Fiber Tour
DESCRIPTION:Come visit the farm! We will have yarn\, finished products\, felted items and woven wheat pieces for sale. There will be alpaca babies to see\, too! What: Alpacas\, yarn\, socks\, roving\, felted items Demos: knitting\, spinning\, blending\, wheat weaving
X-ALT-DESC;FMTTYPE=text/html:Come visit the farm! We will have yarn\, finished products\, felted items and woven wheat pieces for sale. There will be alpaca babies to see\, too! What: Alpacas\, yarn\, socks\, roving\, felted items Demos: knitting\, spinning\, blending\, wheat weaving
LOCATION:33073 Lakeview Dr. Lake City
UID:e.621.4468
SEQUENCE:3
DTSTAMP:20260424T200148Z
URL:https://public.lakecity.org/events/details/farm-fiber-tour-09-26-2015-4468
END:VEVENT

END:VCALENDAR
