BEGIN:VCALENDAR
VERSION:2.0
PRODID:-//ChamberMaster//Event Calendar 2.0//EN
METHOD:PUBLISH
X-PUBLISHED-TTL:P3D
REFRESH-INTERVAL:P3D
CALSCALE:GREGORIAN
BEGIN:VEVENT
DTSTART:20170204T160000Z
DTEND:20170204T200000Z
X-MICROSOFT-CDO-ALLDAYEVENT:FALSE
SUMMARY:Fat Tire Bike Tour - Winterfest 2017
DESCRIPTION:Fat Tire Bike Tour\n\n6\, 12\, 22 mile routes
X-ALT-DESC;FMTTYPE=text/html:Fat Tire Bike Tour<br />\n6\, 12\, 22 mile routes<br />\n&nbsp\;
LOCATION:The Jewel Golf Course
UID:e.621.5648
SEQUENCE:3
DTSTAMP:20260422T055908Z
URL:https://public.lakecity.org/events/details/fat-tire-bike-tour-winterfest-2017-5648
END:VEVENT

END:VCALENDAR
