BEGIN:VCALENDAR
VERSION:2.0
PRODID:-//ChamberMaster//Event Calendar 2.0//EN
METHOD:PUBLISH
X-PUBLISHED-TTL:P3D
REFRESH-INTERVAL:P3D
CALSCALE:GREGORIAN
BEGIN:VEVENT
DTSTART:20151128T190000Z
DTEND:20151129T040000Z
X-MICROSOFT-CDO-ALLDAYEVENT:FALSE
SUMMARY:Festival of Lights
DESCRIPTION:4th Annual Festival of Lights Open House 1:00 - 4:00 p.m. Gift Shop open and Villa's baked goods for sale\; Concert 7:00 p.m. Dessert Buffet and Wine Tasting immediately after concert. Performers: Dana Gartner\, Julie McDevitt\, Kiki Gheen\, Mary Gravenish
X-ALT-DESC;FMTTYPE=text/html:4th Annual Festival of Lights Open House 1:00 - 4:00 p.m. Gift Shop open and Villa&#39\;s baked goods for sale\; Concert 7:00 p.m. Dessert Buffet and Wine Tasting immediately after concert. Performers: Dana Gartner\, Julie McDevitt\, Kiki Gheen\, Mary Gravenish
LOCATION:29847 County 2 Blvd Villa Maria\, Frontenac\, MN
UID:e.621.4505
SEQUENCE:3
DTSTAMP:20260424T152826Z
URL:https://public.lakecity.org/events/details/festival-of-lights-11-28-2015-4505
END:VEVENT

END:VCALENDAR
