BEGIN:VCALENDAR
VERSION:2.0
PRODID:-//ChamberMaster//Event Calendar 2.0//EN
METHOD:PUBLISH
X-PUBLISHED-TTL:P3D
REFRESH-INTERVAL:P3D
CALSCALE:GREGORIAN
BEGIN:VEVENT
DTSTART:20141129T190000Z
DTEND:20141130T030000Z
X-MICROSOFT-CDO-ALLDAYEVENT:FALSE
SUMMARY:Festival of Lights
DESCRIPTION:The festival celebrates the coming holytide by lighting the driveway to Marian Hall with luminaries. Over 1\,200 luminaries are lit\, along with over 100 candle-lit nativities that rest beneath the stained class windows. Come join us for the Nativity Collection and Classical Concert\, followed by hot apple cider\, bread puddings\, and a decadent dessert buffet.
X-ALT-DESC;FMTTYPE=text/html:The festival celebrates the coming holytide by lighting the driveway to Marian Hall with luminaries. Over 1\,200 luminaries are lit\, along with over 100 candle-lit nativities that rest beneath the stained class windows. Come join us for the Nativity Collection and Classical Concert\, followed by hot apple cider\, bread puddings\, and a decadent dessert buffet.
LOCATION:Villa Maria Retreat and Conference Center\, 29847 Cty. 2 Blvd.\, Frontenac
UID:e.621.4299
SEQUENCE:3
DTSTAMP:20260425T111644Z
URL:https://public.lakecity.org/events/details/festival-of-lights-11-29-2014-4299
END:VEVENT

END:VCALENDAR
