BEGIN:VCALENDAR
VERSION:2.0
PRODID:-//ChamberMaster//Event Calendar 2.0//EN
METHOD:PUBLISH
X-PUBLISHED-TTL:P3D
REFRESH-INTERVAL:P3D
CALSCALE:GREGORIAN
BEGIN:VEVENT
DTSTART:20131214T170000Z
DTEND:20131214T220000Z
X-MICROSOFT-CDO-ALLDAYEVENT:FALSE
SUMMARY:Fiesta Foods Cookie Walk
DESCRIPTION:Fiesta Foods Cookie Walk
X-ALT-DESC;FMTTYPE=text/html:Fiesta Foods Cookie Walk
LOCATION:310 S. Lakeshore Dr. Lake City\, MN 55041
UID:e.621.3420
SEQUENCE:3
DTSTAMP:20260426T042805Z
URL:https://public.lakecity.org/events/details/fiesta-foods-cookie-walk-12-14-2013-3420
END:VEVENT

END:VCALENDAR
