BEGIN:VCALENDAR
VERSION:2.0
PRODID:-//ChamberMaster//Event Calendar 2.0//EN
METHOD:PUBLISH
X-PUBLISHED-TTL:P3D
REFRESH-INTERVAL:P3D
CALSCALE:GREGORIAN
BEGIN:VEVENT
DTSTART:20160318T223000Z
DTEND:20160319T010000Z
X-MICROSOFT-CDO-ALLDAYEVENT:FALSE
SUMMARY:Fish Fry & Bingo Night
DESCRIPTION:Lake City Sportsman's Club Fish Fry with all the fixings. Fish Fry includes batter fried cod\, potato\, baked beans\, coleslaw\, dinner roll\, onion rings\, coffee or milk and dessert of your choice. After dinner support the Lake City Lincoln High School Booster Club bingo event starting at 7:00 pm in the upper level of the club.
X-ALT-DESC;FMTTYPE=text/html:Lake City Sportsman&#39\;s Club Fish Fry with all the fixings. Fish Fry includes batter fried cod\, potato\, baked beans\, coleslaw\, dinner roll\, onion rings\, coffee or milk and dessert of your choice. After dinner support the Lake City Lincoln High School Booster Club bingo event starting at 7:00 pm in the upper level of the club.
LOCATION:Lake City Sportsman's Club 2200 South Oak Street Lake City MN
UID:e.621.4783
SEQUENCE:3
DTSTAMP:20260424T085219Z
URL:https://public.lakecity.org/events/details/fish-fry-bingo-night-03-18-2016-4783
END:VEVENT

END:VCALENDAR
