BEGIN:VCALENDAR
VERSION:2.0
PRODID:-//ChamberMaster//Event Calendar 2.0//EN
METHOD:PUBLISH
X-PUBLISHED-TTL:P3D
REFRESH-INTERVAL:P3D
CALSCALE:GREGORIAN
BEGIN:VEVENT
DTSTART:20180302T233000Z
DTEND:20180303T020000Z
X-MICROSOFT-CDO-ALLDAYEVENT:FALSE
SUMMARY:Fish Fry - Lake City Sportsman's Club
DESCRIPTION:Dinner includes batter fried cod\, potato\, onion rings\, baked beans\, coleslaw\, dinner roll\, milk or coffee and dessert. Serving 5:30 - 8:00 pm or until gone.
X-ALT-DESC;FMTTYPE=text/html:Dinner includes batter fried cod\, potato\, onion rings\, baked beans\, coleslaw\, dinner roll\, milk or coffee and dessert. Serving 5:30 - 8:00 pm or until gone.
LOCATION:Lake City Sportsman's Club 2200 South Oak Street Lake City MN
UID:e.621.6832
SEQUENCE:3
DTSTAMP:20260421T085017Z
URL:https://public.lakecity.org/events/details/fish-fry-lake-city-sportsman-s-club-03-02-2018-6832
END:VEVENT

END:VCALENDAR
