BEGIN:VCALENDAR
VERSION:2.0
PRODID:-//ChamberMaster//Event Calendar 2.0//EN
METHOD:PUBLISH
X-PUBLISHED-TTL:P3D
REFRESH-INTERVAL:P3D
CALSCALE:GREGORIAN
BEGIN:VEVENT
DTSTART:20150306T233000Z
DTEND:20150307T020000Z
X-MICROSOFT-CDO-ALLDAYEVENT:FALSE
SUMMARY:Fish Fry - Lake City Sportsman's Club
DESCRIPTION:Fish dinner includes batterfried cod\, potato\, baked beans\, coleslaw\, onion rings\, dinner roll\, coffee/milk and dessert.
X-ALT-DESC;FMTTYPE=text/html:Fish dinner includes batterfried cod\, potato\, baked beans\, coleslaw\, onion rings\, dinner roll\, coffee/milk and dessert.
LOCATION:Lake City Sportsman's Club\, 2200 South Oak Street\, Lake City MN
UID:e.621.4393
SEQUENCE:3
DTSTAMP:20260425T033305Z
URL:https://public.lakecity.org/events/details/fish-fry-lake-city-sportsman-s-club-03-06-2015-4393
END:VEVENT

END:VCALENDAR
