BEGIN:VCALENDAR
VERSION:2.0
PRODID:-//ChamberMaster//Event Calendar 2.0//EN
METHOD:PUBLISH
X-PUBLISHED-TTL:P3D
REFRESH-INTERVAL:P3D
CALSCALE:GREGORIAN
BEGIN:VEVENT
DTSTART:20150313T223000Z
DTEND:20150314T010000Z
X-MICROSOFT-CDO-ALLDAYEVENT:FALSE
SUMMARY:Fish Fry - Lake City Sportsman's Club
DESCRIPTION:Fish fry - dinner includes batterfried cod\, potato\, onion rings\, baked beans\, coleslaw\, dinner roll\, coffe/milk and dessert
X-ALT-DESC;FMTTYPE=text/html:Fish fry - dinner includes batterfried cod\, potato\, onion rings\, baked beans\, coleslaw\, dinner roll\, coffe/milk and dessert
LOCATION:Lake City Sportsman's Club South Oak Street\, Lake City MN
UID:e.621.4402
SEQUENCE:3
DTSTAMP:20260425T033224Z
URL:https://public.lakecity.org/events/details/fish-fry-lake-city-sportsman-s-club-03-13-2015-4402
END:VEVENT

END:VCALENDAR
