BEGIN:VCALENDAR
VERSION:2.0
PRODID:-//ChamberMaster//Event Calendar 2.0//EN
METHOD:PUBLISH
X-PUBLISHED-TTL:P3D
REFRESH-INTERVAL:P3D
CALSCALE:GREGORIAN
BEGIN:VEVENT
DTSTART:20160325T220000Z
DTEND:20160326T010000Z
X-MICROSOFT-CDO-ALLDAYEVENT:FALSE
SUMMARY:Fish Fry - Lake City Sportsman's Club
DESCRIPTION:Fish Fry with all the trimmings. Dinner includes batter fried cod\, potato\, baked beans\, onion rings\, coleslaw\, dinner roll\, coffee or milk\, and dessert of your choice. Earlier start time this week only to help accommodate church service times.
X-ALT-DESC;FMTTYPE=text/html:Fish Fry with all the trimmings. Dinner includes batter fried cod\, potato\, baked beans\, onion rings\, coleslaw\, dinner roll\, coffee or milk\, and dessert of your choice. Earlier start time this week only to help accommodate church service times.
LOCATION:Lake City Sportsman's Club 2200 S Oak Street Lake City MN
UID:e.621.4784
SEQUENCE:3
DTSTAMP:20260424T085849Z
URL:https://public.lakecity.org/events/details/fish-fry-lake-city-sportsman-s-club-03-25-2016-4784
END:VEVENT

END:VCALENDAR
