BEGIN:VCALENDAR
VERSION:2.0
PRODID:-//ChamberMaster//Event Calendar 2.0//EN
METHOD:PUBLISH
X-PUBLISHED-TTL:P3D
REFRESH-INTERVAL:P3D
CALSCALE:GREGORIAN
BEGIN:VEVENT
DTSTART:20150327T223000Z
DTEND:20150328T010000Z
X-MICROSOFT-CDO-ALLDAYEVENT:FALSE
SUMMARY:Fish Fry - Lake City Sportsman's Club
DESCRIPTION:Fish dinner includes batterfried cod\, potato\, onion rings\, baked beans\, coleslaw\, dinner roll\, coffee or milk and dessert. Take outs are available. Take outs include six pieces of fish with all the fixinings & dessert. Call ahead to speed up your takeout order.
X-ALT-DESC;FMTTYPE=text/html:Fish dinner includes batterfried cod\, potato\, onion rings\, baked beans\, coleslaw\, dinner roll\, coffee or milk and dessert. Take outs are available. Take outs include six pieces of fish with all the fixinings &amp\; dessert. Call ahead to speed up your takeout order.
LOCATION:Lake City Sportsman's Club\, South Oak Street\, Lake City MN
UID:e.621.4406
SEQUENCE:3
DTSTAMP:20260425T033318Z
URL:https://public.lakecity.org/events/details/fish-fry-lake-city-sportsman-s-club-03-27-2015-4406
END:VEVENT

END:VCALENDAR
