BEGIN:VCALENDAR
VERSION:2.0
PRODID:-//ChamberMaster//Event Calendar 2.0//EN
METHOD:PUBLISH
X-PUBLISHED-TTL:P3D
REFRESH-INTERVAL:P3D
CALSCALE:GREGORIAN
BEGIN:VEVENT
DTSTART:20151113T233000Z
DTEND:20151114T020000Z
X-MICROSOFT-CDO-ALLDAYEVENT:FALSE
SUMMARY:Fish Fry - Lake City Sportsman's Club
DESCRIPTION:Fish Fry - dinner includes batter-fried cod\, potato\, onion rings\, baked beans\, coleslaw\, dinner roll\, coffee or milk and a sweet treat for dessert. Take-outs - all $12 - (4-5 pieces of fish) available. Please allow about 10-15 minute prep time for take-outs.
X-ALT-DESC;FMTTYPE=text/html:Fish Fry - dinner includes batter-fried cod\, potato\, onion rings\, baked beans\, coleslaw\, dinner roll\, coffee or milk and a sweet treat for dessert. Take-outs - all $12 - (4-5 pieces of fish) available. Please allow about 10-15 minute prep time for take-outs.
LOCATION:Lake City Sportsman's Club\, 2200 South Oak Street\, Lake City MN
UID:e.621.4521
SEQUENCE:3
DTSTAMP:20260424T154124Z
URL:https://public.lakecity.org/events/details/fish-fry-lake-city-sportsman-s-club-11-13-2015-4521
END:VEVENT

END:VCALENDAR
