BEGIN:VCALENDAR
VERSION:2.0
PRODID:-//ChamberMaster//Event Calendar 2.0//EN
METHOD:PUBLISH
X-PUBLISHED-TTL:P3D
REFRESH-INTERVAL:P3D
CALSCALE:GREGORIAN
BEGIN:VEVENT
DTSTART:20171117T233000Z
DTEND:20171118T020000Z
X-MICROSOFT-CDO-ALLDAYEVENT:FALSE
SUMMARY:Fish Fry - Lake City Sportsman's Club
DESCRIPTION:Fish Fry at Lake City Sportsman's Club \n\nDinner includes: batterfried cod\, potato\, beans\, onion rings\, coleslaw\, dinner roll\, coffee or milk\, and a sweet treat for dessert. Bar opens at 5:00 p.m. Everyone welcome. Take-outs available after 6:00 p.m.. Please allow 15 minute prep time. Take-outs include six pieces of fish and sides for $12.
X-ALT-DESC;FMTTYPE=text/html:<span style="font-size:14px\;"><span style="font-family:tahoma\;"><strong>Fish Fry at Lake City Sportsman&#39\;s Club</strong></span></span>&nbsp\;<br />\nDinner includes: batterfried cod\, potato\, beans\, onion rings\, coleslaw\, dinner roll\, coffee or milk\, and a sweet treat for dessert. Bar opens at 5:00 p.m. Everyone welcome. Take-outs available after 6:00 p.m.. Please allow 15 minute prep time. Take-outs include six pieces of fish and sides for $12.
LOCATION:Lake City Sportsman's Club 2200 South Oak Lake City MN 55041
UID:e.621.6780
SEQUENCE:3
DTSTAMP:20260421T151748Z
URL:https://public.lakecity.org/events/details/fish-fry-lake-city-sportsman-s-club-11-17-2017-6780
END:VEVENT

END:VCALENDAR
